BEGIN:VCALENDAR
VERSION:2.0
PRODID:-//World Cup Nursery School - ECPv6.15.1.1//NONSGML v1.0//EN
CALSCALE:GREGORIAN
METHOD:PUBLISH
X-ORIGINAL-URL:https://worldcupnurseryschool.com
X-WR-CALDESC:Events for World Cup Nursery School
REFRESH-INTERVAL;VALUE=DURATION:PT1H
X-Robots-Tag:noindex
X-PUBLISHED-TTL:PT1H
BEGIN:VTIMEZONE
TZID:UTC
BEGIN:STANDARD
TZOFFSETFROM:+0000
TZOFFSETTO:+0000
TZNAME:UTC
DTSTART:20250101T000000
END:STANDARD
END:VTIMEZONE
BEGIN:VEVENT
DTSTART;VALUE=DATE:20250901
DTEND;VALUE=DATE:20250902
DTSTAMP:20260426T015723
CREATED:20250822T154306Z
LAST-MODIFIED:20250822T154856Z
UID:4521-1756684800-1756771199@worldcupnurseryschool.com
SUMMARY:Labor Day
DESCRIPTION:School closed.
URL:https://worldcupnurseryschool.com/event/labor-day-school-closed-2/
END:VEVENT
BEGIN:VEVENT
DTSTART;VALUE=DATE:20250902
DTEND;VALUE=DATE:20250903
DTSTAMP:20260426T015723
CREATED:20250822T154359Z
LAST-MODIFIED:20250822T154359Z
UID:4523-1756771200-1756857599@worldcupnurseryschool.com
SUMMARY:School Opens!
DESCRIPTION:
URL:https://worldcupnurseryschool.com/event/school-opens-2/
END:VEVENT
BEGIN:VEVENT
DTSTART;VALUE=DATE:20250908
DTEND;VALUE=DATE:20250909
DTSTAMP:20260426T015723
CREATED:20250822T154515Z
LAST-MODIFIED:20250822T154515Z
UID:4525-1757289600-1757375999@worldcupnurseryschool.com
SUMMARY:First Day of Before & After School Prorgrams
DESCRIPTION:
URL:https://worldcupnurseryschool.com/event/first-day-of-before-after-school-prorgrams/
END:VEVENT
BEGIN:VEVENT
DTSTART;TZID=UTC:20250923T000000
DTEND;TZID=UTC:20250924T000000
DTSTAMP:20260426T015723
CREATED:20250822T154652Z
LAST-MODIFIED:20250822T154711Z
UID:4527-1758585600-1758672000@worldcupnurseryschool.com
SUMMARY:Rosh Hashanah
DESCRIPTION:School closed.
URL:https://worldcupnurseryschool.com/event/rosh-hashanah-2/
END:VEVENT
END:VCALENDAR