BEGIN:VCALENDAR
VERSION:2.0
PRODID:-//World Cup Nursery School - ECPv6.15.1.1//NONSGML v1.0//EN
CALSCALE:GREGORIAN
METHOD:PUBLISH
X-ORIGINAL-URL:https://worldcupnurseryschool.com
X-WR-CALDESC:Events for World Cup Nursery School
REFRESH-INTERVAL;VALUE=DURATION:PT1H
X-Robots-Tag:noindex
X-PUBLISHED-TTL:PT1H
BEGIN:VTIMEZONE
TZID:UTC
BEGIN:STANDARD
TZOFFSETFROM:+0000
TZOFFSETTO:+0000
TZNAME:UTC
DTSTART:20230101T000000
END:STANDARD
END:VTIMEZONE
BEGIN:VEVENT
DTSTART;VALUE=DATE:20240715
DTEND;VALUE=DATE:20240720
DTSTAMP:20260426T033006
CREATED:20240701T190626Z
LAST-MODIFIED:20240701T190626Z
UID:4324-1721001600-1721433599@worldcupnurseryschool.com
SUMMARY:Week 4: Shipwrecked
DESCRIPTION:
URL:https://worldcupnurseryschool.com/event/week-4-shipwrecked/
END:VEVENT
BEGIN:VEVENT
DTSTART;VALUE=DATE:20240708
DTEND;VALUE=DATE:20240713
DTSTAMP:20260426T033006
CREATED:20240701T190537Z
LAST-MODIFIED:20240701T190537Z
UID:4322-1720396800-1720828799@worldcupnurseryschool.com
SUMMARY:Week 3: Rumble in the Jungle
DESCRIPTION:
URL:https://worldcupnurseryschool.com/event/week-3-rumble-in-the-jungle/
END:VEVENT
BEGIN:VEVENT
DTSTART;VALUE=DATE:20240704
DTEND;VALUE=DATE:20240706
DTSTAMP:20260426T033006
CREATED:20240701T190956Z
LAST-MODIFIED:20240701T190956Z
UID:4334-1720051200-1720223999@worldcupnurseryschool.com
SUMMARY:Fourth of July
DESCRIPTION:No camp.
URL:https://worldcupnurseryschool.com/event/fourth-of-july/
END:VEVENT
BEGIN:VEVENT
DTSTART;VALUE=DATE:20240701
DTEND;VALUE=DATE:20240704
DTSTAMP:20260426T033006
CREATED:20240701T190157Z
LAST-MODIFIED:20240701T190930Z
UID:4320-1719792000-1720051199@worldcupnurseryschool.com
SUMMARY:Week 2: Party in the USA
DESCRIPTION:
URL:https://worldcupnurseryschool.com/event/week-2-party-in-the-usa/
END:VEVENT
BEGIN:VEVENT
DTSTART;VALUE=DATE:20240624
DTEND;VALUE=DATE:20240629
DTSTAMP:20260426T033006
CREATED:20240701T190127Z
LAST-MODIFIED:20240701T190127Z
UID:4318-1719187200-1719619199@worldcupnurseryschool.com
SUMMARY:Week 1: Mini Magicians
DESCRIPTION:
URL:https://worldcupnurseryschool.com/event/week-1-mini-magicians/
END:VEVENT
BEGIN:VEVENT
DTSTART;TZID=UTC:20240610T000000
DTEND;TZID=UTC:20240614T000000
DTSTAMP:20260426T033006
CREATED:20230808T174019Z
LAST-MODIFIED:20230808T174019Z
UID:4217-1717977600-1718323200@worldcupnurseryschool.com
SUMMARY:June Special Days
DESCRIPTION:
URL:https://worldcupnurseryschool.com/event/june-special-days-3/
END:VEVENT
BEGIN:VEVENT
DTSTART;VALUE=DATE:20240606
DTEND;VALUE=DATE:20240607
DTSTAMP:20260426T033006
CREATED:20230808T174809Z
LAST-MODIFIED:20230808T174809Z
UID:4232-1717632000-1717718399@worldcupnurseryschool.com
SUMMARY:Moving Up Ceremony & Last Day of School for 4's / Young 5's program
DESCRIPTION:Tentative Moving Up Ceremony Schedule \n9:30 – G\, AM \n10:30 – H \n11:30 – F \n12:30 – J \n1:30 – K \n2:30 – G\, PM
URL:https://worldcupnurseryschool.com/event/moving-up-ceremony-last-day-of-school-for-4s-young-5s-program/
END:VEVENT
BEGIN:VEVENT
DTSTART;VALUE=DATE:20240606
DTEND;VALUE=DATE:20240607
DTSTAMP:20260426T033006
CREATED:20230808T174533Z
LAST-MODIFIED:20230808T174533Z
UID:4230-1717632000-1717718399@worldcupnurseryschool.com
SUMMARY:Last day of school for 5 day\, 3's program & PT / All Day Class
DESCRIPTION:Class Picnic
URL:https://worldcupnurseryschool.com/event/last-day-of-school-for-5-day-3s-program-pt-all-day-class/
END:VEVENT
BEGIN:VEVENT
DTSTART;VALUE=DATE:20240606
DTEND;VALUE=DATE:20240607
DTSTAMP:20260426T033006
CREATED:20230808T174210Z
LAST-MODIFIED:20230808T174216Z
UID:4223-1717632000-1717718399@worldcupnurseryschool.com
SUMMARY:Last day of school for 5 day\, 2's program
DESCRIPTION:
URL:https://worldcupnurseryschool.com/event/last-day-of-school-for-5-days-2s-program/
END:VEVENT
BEGIN:VEVENT
DTSTART;VALUE=DATE:20240605
DTEND;VALUE=DATE:20240606
DTSTAMP:20260426T033006
CREATED:20230808T174340Z
LAST-MODIFIED:20230808T174340Z
UID:4228-1717545600-1717631999@worldcupnurseryschool.com
SUMMARY:Last day of school for 3 day\, 3's program
DESCRIPTION:Class Picnic
URL:https://worldcupnurseryschool.com/event/last-day-of-school-for-3-day-3s-program/
END:VEVENT
BEGIN:VEVENT
DTSTART;VALUE=DATE:20240605
DTEND;VALUE=DATE:20240606
DTSTAMP:20260426T033006
CREATED:20230808T174145Z
LAST-MODIFIED:20230808T174145Z
UID:4221-1717545600-1717631999@worldcupnurseryschool.com
SUMMARY:Last day of school for 3 day\, 2's program
DESCRIPTION:
URL:https://worldcupnurseryschool.com/event/last-day-of-school-for-3-day-2s-program/
END:VEVENT
BEGIN:VEVENT
DTSTART;VALUE=DATE:20240604
DTEND;VALUE=DATE:20240605
DTSTAMP:20260426T033006
CREATED:20230808T174256Z
LAST-MODIFIED:20230808T174256Z
UID:4226-1717459200-1717545599@worldcupnurseryschool.com
SUMMARY:Last day of school for 2 day\, 3's program
DESCRIPTION:Class Picnic
URL:https://worldcupnurseryschool.com/event/last-day-of-school-for-2-day-3s-program/
END:VEVENT
BEGIN:VEVENT
DTSTART;VALUE=DATE:20240604
DTEND;VALUE=DATE:20240605
DTSTAMP:20260426T033006
CREATED:20230808T174111Z
LAST-MODIFIED:20230808T174111Z
UID:4219-1717459200-1717545599@worldcupnurseryschool.com
SUMMARY:Last Day of School for 2 day\, 2's program
DESCRIPTION:
URL:https://worldcupnurseryschool.com/event/last-day-of-school-for-2-day-2s-program/
END:VEVENT
BEGIN:VEVENT
DTSTART;VALUE=DATE:20240603
DTEND;VALUE=DATE:20240604
DTSTAMP:20260426T033006
CREATED:20230808T173851Z
LAST-MODIFIED:20230808T173851Z
UID:4215-1717372800-1717459199@worldcupnurseryschool.com
SUMMARY:Last Day of Before & After School Programs
DESCRIPTION:
URL:https://worldcupnurseryschool.com/event/last-day-of-before-after-school-programs-3/
END:VEVENT
BEGIN:VEVENT
DTSTART;TZID=UTC:20240524T000000
DTEND;TZID=UTC:20240527T000000
DTSTAMP:20260426T033006
CREATED:20230808T173812Z
LAST-MODIFIED:20230808T173812Z
UID:4213-1716508800-1716768000@worldcupnurseryschool.com
SUMMARY:Memorial Day
DESCRIPTION:School is closed.
URL:https://worldcupnurseryschool.com/event/memorial-day-2/
END:VEVENT
BEGIN:VEVENT
DTSTART;VALUE=DATE:20240423
DTEND;VALUE=DATE:20240424
DTSTAMP:20260426T033006
CREATED:20230808T173716Z
LAST-MODIFIED:20230808T173716Z
UID:4211-1713830400-1713916799@worldcupnurseryschool.com
SUMMARY:Passover
DESCRIPTION:School is closed.
URL:https://worldcupnurseryschool.com/event/passover/
END:VEVENT
BEGIN:VEVENT
DTSTART;TZID=UTC:20240329T000000
DTEND;TZID=UTC:20240405T000000
DTSTAMP:20260426T033006
CREATED:20230808T173609Z
LAST-MODIFIED:20230808T173609Z
UID:4209-1711670400-1712275200@worldcupnurseryschool.com
SUMMARY:Spring Recess
DESCRIPTION:School only open for “Special Days” on 4/2\, 4/3\, 4/4\, and 4/5.
URL:https://worldcupnurseryschool.com/event/spring-recess-5/
END:VEVENT
BEGIN:VEVENT
DTSTART;VALUE=DATE:20240307
DTEND;VALUE=DATE:20240308
DTSTAMP:20260426T033006
CREATED:20230808T173444Z
LAST-MODIFIED:20230808T173444Z
UID:4207-1709769600-1709855999@worldcupnurseryschool.com
SUMMARY:Parent / Teacher conferences for class G
DESCRIPTION:School remains open for all programs & enrichments.
URL:https://worldcupnurseryschool.com/event/parent-teacher-conferences-for-class-g/
END:VEVENT
BEGIN:VEVENT
DTSTART;VALUE=DATE:20240306
DTEND;VALUE=DATE:20240307
DTSTAMP:20260426T033006
CREATED:20230808T173356Z
LAST-MODIFIED:20230808T173356Z
UID:4205-1709683200-1709769599@worldcupnurseryschool.com
SUMMARY:Parent / Teacher conferences for classes F & H
DESCRIPTION:School remains open for all programs & enrichments.
URL:https://worldcupnurseryschool.com/event/parent-teacher-conferences-for-classes-f-h-2/
END:VEVENT
BEGIN:VEVENT
DTSTART;VALUE=DATE:20240305
DTEND;VALUE=DATE:20240306
DTSTAMP:20260426T033006
CREATED:20230808T173250Z
LAST-MODIFIED:20230808T173250Z
UID:4203-1709596800-1709683199@worldcupnurseryschool.com
SUMMARY:Parent / Teacher Conferences for Classes J & K
DESCRIPTION:School remains open for all programs & enrichments.
URL:https://worldcupnurseryschool.com/event/parent-teacher-conferences-for-classes-j-k-2/
END:VEVENT
BEGIN:VEVENT
DTSTART;TZID=UTC:20240219T000000
DTEND;TZID=UTC:20240223T000000
DTSTAMP:20260426T033006
CREATED:20230808T173132Z
LAST-MODIFIED:20230808T173132Z
UID:4201-1708300800-1708646400@worldcupnurseryschool.com
SUMMARY:Winter Recess
DESCRIPTION:School only open for “Special Days” on 2/20\, 2/21\, 2/22\, and 2/23.
URL:https://worldcupnurseryschool.com/event/winter-recess-5/
END:VEVENT
BEGIN:VEVENT
DTSTART;VALUE=DATE:20240118
DTEND;VALUE=DATE:20240119
DTSTAMP:20260426T033006
CREATED:20230808T172707Z
LAST-MODIFIED:20230808T172825Z
UID:4196-1705536000-1705622399@worldcupnurseryschool.com
SUMMARY:Parent / Teacher Conferences for 2 day\, 3's program
DESCRIPTION:Regular nursery school classes will be closed for only these students. However\, they will be able to attend their enrichment programs.
URL:https://worldcupnurseryschool.com/event/parent-teacher-conferences-for-2-day-3s-program/
END:VEVENT
BEGIN:VEVENT
DTSTART;VALUE=DATE:20240117
DTEND;VALUE=DATE:20240118
DTSTAMP:20260426T033006
CREATED:20230808T172924Z
LAST-MODIFIED:20230808T172924Z
UID:4198-1705449600-1705535999@worldcupnurseryschool.com
SUMMARY:Parent / Teacher Conferences for 3 & 5 day\, 3's program
DESCRIPTION:Regular nursery school classes will be closed for only these students. However\, they will be able to attend their enrichment programs.
URL:https://worldcupnurseryschool.com/event/parent-teacher-conferences-for-3-5-day-3s-program/
END:VEVENT
BEGIN:VEVENT
DTSTART;VALUE=DATE:20240115
DTEND;VALUE=DATE:20240116
DTSTAMP:20260426T033006
CREATED:20230804T200139Z
LAST-MODIFIED:20230804T200139Z
UID:4193-1705276800-1705363199@worldcupnurseryschool.com
SUMMARY:Martin Luther King Jr. Day
DESCRIPTION:School is closed.
URL:https://worldcupnurseryschool.com/event/martin-luther-king-jr-day/
END:VEVENT
BEGIN:VEVENT
DTSTART;TZID=UTC:20231225T000000
DTEND;TZID=UTC:20240102T000000
DTSTAMP:20260426T033006
CREATED:20230804T195937Z
LAST-MODIFIED:20230804T195937Z
UID:4191-1703462400-1704153600@worldcupnurseryschool.com
SUMMARY:Holiday Recess
DESCRIPTION:School closed. (School reopens 1/3)
URL:https://worldcupnurseryschool.com/event/holiday-recess-3/
END:VEVENT
BEGIN:VEVENT
DTSTART;VALUE=DATE:20231213
DTEND;VALUE=DATE:20231214
DTSTAMP:20260426T033006
CREATED:20230804T193428Z
LAST-MODIFIED:20230804T193428Z
UID:4189-1702425600-1702511999@worldcupnurseryschool.com
SUMMARY:Holiday Sing-a-long for 4's and Young 5's
DESCRIPTION:Snow date is 12/20
URL:https://worldcupnurseryschool.com/event/holiday-sing-a-long-for-4s-and-young-5s/
END:VEVENT
BEGIN:VEVENT
DTSTART;TZID=UTC:20231123T000000
DTEND;TZID=UTC:20231124T000000
DTSTAMP:20260426T033006
CREATED:20230804T193144Z
LAST-MODIFIED:20230808T175227Z
UID:4187-1700697600-1700784000@worldcupnurseryschool.com
SUMMARY:Thanksgiving Recess
DESCRIPTION:School is closed.
URL:https://worldcupnurseryschool.com/event/thanksgiving-recess/
END:VEVENT
BEGIN:VEVENT
DTSTART;VALUE=DATE:20231116
DTEND;VALUE=DATE:20231117
DTSTAMP:20260426T033006
CREATED:20230804T192637Z
LAST-MODIFIED:20230808T175116Z
UID:4184-1700092800-1700179199@worldcupnurseryschool.com
SUMMARY:Parent/Teacher Conferences for 4's and Young 5's programs
DESCRIPTION:Regular nursery school classes will be closed only for these students. However\, they will be able to attend their enrichment programs.
URL:https://worldcupnurseryschool.com/event/parent-teacher-conferences-for-3-5-day-3s-programs/
END:VEVENT
BEGIN:VEVENT
DTSTART;VALUE=DATE:20231110
DTEND;VALUE=DATE:20231111
DTSTAMP:20260426T033006
CREATED:20230804T192423Z
LAST-MODIFIED:20230804T192423Z
UID:4182-1699574400-1699660799@worldcupnurseryschool.com
SUMMARY:Veteran's Day
DESCRIPTION:School is closed.
URL:https://worldcupnurseryschool.com/event/veterans-day/
END:VEVENT
BEGIN:VEVENT
DTSTART;VALUE=DATE:20231009
DTEND;VALUE=DATE:20231010
DTSTAMP:20260426T033006
CREATED:20230804T192343Z
LAST-MODIFIED:20230804T192343Z
UID:4180-1696809600-1696895999@worldcupnurseryschool.com
SUMMARY:Indigenous Peoples’ Day
DESCRIPTION:School is closed.
URL:https://worldcupnurseryschool.com/event/indigenous-peoples-day/
END:VEVENT
END:VCALENDAR