BEGIN:VCALENDAR
VERSION:2.0
PRODID:-//World Cup Nursery School - ECPv6.15.1.1//NONSGML v1.0//EN
CALSCALE:GREGORIAN
METHOD:PUBLISH
X-WR-CALNAME:World Cup Nursery School
X-ORIGINAL-URL:https://worldcupnurseryschool.com
X-WR-CALDESC:Events for World Cup Nursery School
REFRESH-INTERVAL;VALUE=DURATION:PT1H
X-Robots-Tag:noindex
X-PUBLISHED-TTL:PT1H
BEGIN:VTIMEZONE
TZID:UTC
BEGIN:STANDARD
TZOFFSETFROM:+0000
TZOFFSETTO:+0000
TZNAME:UTC
DTSTART:20240101T000000
END:STANDARD
END:VTIMEZONE
BEGIN:VEVENT
DTSTART;VALUE=DATE:20250901
DTEND;VALUE=DATE:20250902
DTSTAMP:20260426T033842
CREATED:20250822T154306Z
LAST-MODIFIED:20250822T154856Z
UID:4521-1756684800-1756771199@worldcupnurseryschool.com
SUMMARY:Labor Day
DESCRIPTION:School closed.
URL:https://worldcupnurseryschool.com/event/labor-day-school-closed-2/
END:VEVENT
BEGIN:VEVENT
DTSTART;VALUE=DATE:20250811
DTEND;VALUE=DATE:20250815
DTSTAMP:20260426T033842
CREATED:20250604T203926Z
LAST-MODIFIED:20250604T204714Z
UID:4462-1754870400-1755215999@worldcupnurseryschool.com
SUMMARY:Week 8: Down on the Farm
DESCRIPTION:Wear brown\, black\, and red.
URL:https://worldcupnurseryschool.com/event/week-8-down-on-the-farm/
END:VEVENT
BEGIN:VEVENT
DTSTART;VALUE=DATE:20250804
DTEND;VALUE=DATE:20250809
DTSTAMP:20260426T033842
CREATED:20250604T203831Z
LAST-MODIFIED:20250604T204655Z
UID:4460-1754265600-1754697599@worldcupnurseryschool.com
SUMMARY:Week 7: Out of this World
DESCRIPTION:Wear black\, silver/grey\, and white.
URL:https://worldcupnurseryschool.com/event/week-7-out-of-this-world-2/
END:VEVENT
BEGIN:VEVENT
DTSTART;VALUE=DATE:20250728
DTEND;VALUE=DATE:20250802
DTSTAMP:20260426T033842
CREATED:20250604T203748Z
LAST-MODIFIED:20250604T204623Z
UID:4458-1753660800-1754092799@worldcupnurseryschool.com
SUMMARY:Week 6: Sports Mania
DESCRIPTION:Wear your favorite sports team.
URL:https://worldcupnurseryschool.com/event/week-6-sports-mania-2/
END:VEVENT
BEGIN:VEVENT
DTSTART;VALUE=DATE:20250721
DTEND;VALUE=DATE:20250726
DTSTAMP:20260426T033842
CREATED:20250604T203658Z
LAST-MODIFIED:20250604T204556Z
UID:4456-1753056000-1753487999@worldcupnurseryschool.com
SUMMARY:Week 5: Tropical Island
DESCRIPTION:Wear beach clothes.
URL:https://worldcupnurseryschool.com/event/week-5-tropical-island-2/
END:VEVENT
BEGIN:VEVENT
DTSTART;VALUE=DATE:20250714
DTEND;VALUE=DATE:20250719
DTSTAMP:20260426T033842
CREATED:20250604T203557Z
LAST-MODIFIED:20250604T204540Z
UID:4454-1752451200-1752883199@worldcupnurseryschool.com
SUMMARY:Week 4: Shipwrecked
DESCRIPTION:Wear black\, red\, and gold.
URL:https://worldcupnurseryschool.com/event/week-4-shipwrecked-2/
END:VEVENT
BEGIN:VEVENT
DTSTART;VALUE=DATE:20250707
DTEND;VALUE=DATE:20250712
DTSTAMP:20260426T033842
CREATED:20250604T203522Z
LAST-MODIFIED:20250604T204519Z
UID:4452-1751846400-1752278399@worldcupnurseryschool.com
SUMMARY:Week 3: Rumble in the Jungle
DESCRIPTION:Wear animal print.
URL:https://worldcupnurseryschool.com/event/week-3-rumble-in-the-jungle-2/
END:VEVENT
BEGIN:VEVENT
DTSTART;VALUE=DATE:20250630
DTEND;VALUE=DATE:20250701
DTSTAMP:20260426T033842
CREATED:20250604T204842Z
LAST-MODIFIED:20250604T204842Z
UID:4464-1751241600-1751327999@worldcupnurseryschool.com
SUMMARY:First day of Prep Camp!
DESCRIPTION:
URL:https://worldcupnurseryschool.com/event/first-day-of-prep-camp/
END:VEVENT
BEGIN:VEVENT
DTSTART;VALUE=DATE:20250630
DTEND;VALUE=DATE:20250705
DTSTAMP:20260426T033842
CREATED:20250604T203438Z
LAST-MODIFIED:20250604T204458Z
UID:4450-1751241600-1751673599@worldcupnurseryschool.com
SUMMARY:Week 2: Party in the USA
DESCRIPTION:Wear red\, white\, and blue.
URL:https://worldcupnurseryschool.com/event/week-2-party-in-the-usa-2/
END:VEVENT
BEGIN:VEVENT
DTSTART;VALUE=DATE:20250623
DTEND;VALUE=DATE:20250628
DTSTAMP:20260426T033842
CREATED:20250604T203301Z
LAST-MODIFIED:20250604T204424Z
UID:4448-1750636800-1751068799@worldcupnurseryschool.com
SUMMARY:Week 1: Mini Magicians
DESCRIPTION:Wear black\, white\, and purple.
URL:https://worldcupnurseryschool.com/event/week-1-mini-magicians-2/
END:VEVENT
BEGIN:VEVENT
DTSTART;VALUE=DATE:20250609
DTEND;VALUE=DATE:20250614
DTSTAMP:20260426T033842
CREATED:20240719T170119Z
LAST-MODIFIED:20240719T170119Z
UID:4385-1749427200-1749859199@worldcupnurseryschool.com
SUMMARY:June Special Days
DESCRIPTION:
URL:https://worldcupnurseryschool.com/event/june-special-days-4/
END:VEVENT
BEGIN:VEVENT
DTSTART;VALUE=DATE:20250605
DTEND;VALUE=DATE:20250606
DTSTAMP:20260426T033842
CREATED:20240719T170854Z
LAST-MODIFIED:20240719T170854Z
UID:4393-1749081600-1749167999@worldcupnurseryschool.com
SUMMARY:Last Day of School for 4 yr old programs & Young 5's
DESCRIPTION:Moving Up Ceremony!
URL:https://worldcupnurseryschool.com/event/last-day-of-school-for-4-yr-old-programs-young-5s/
END:VEVENT
BEGIN:VEVENT
DTSTART;VALUE=DATE:20250605
DTEND;VALUE=DATE:20250606
DTSTAMP:20260426T033842
CREATED:20240719T170617Z
LAST-MODIFIED:20240719T170617Z
UID:4391-1749081600-1749167999@worldcupnurseryschool.com
SUMMARY:Last Day of School for 5 day 2 yr old program\, 5 day 3 yr old program\, and PT/All Day Class
DESCRIPTION:5 day 3 yr old classes and PT/All Day class have their class picnic.
URL:https://worldcupnurseryschool.com/event/last-day-of-school-for-5-day-2-yr-old-program-5-day-3-yr-old-program-and-pt-all-day-class/
END:VEVENT
BEGIN:VEVENT
DTSTART;VALUE=DATE:20250604
DTEND;VALUE=DATE:20250605
DTSTAMP:20260426T033842
CREATED:20240719T170453Z
LAST-MODIFIED:20240719T170453Z
UID:4389-1748995200-1749081599@worldcupnurseryschool.com
SUMMARY:Last Day of School for 3 day 2 yr old program and 3 day 3 yr old program
DESCRIPTION:3 day 3 yr old program has their class picnic.
URL:https://worldcupnurseryschool.com/event/last-day-of-school-for-3-day-2-yr-old-program-and-3-day-3-yr-old-program/
END:VEVENT
BEGIN:VEVENT
DTSTART;VALUE=DATE:20250604
DTEND;VALUE=DATE:20250605
DTSTAMP:20260426T033842
CREATED:20240719T170045Z
LAST-MODIFIED:20240719T170045Z
UID:4383-1748995200-1749081599@worldcupnurseryschool.com
SUMMARY:Last Day of Before & After School Programs
DESCRIPTION:
URL:https://worldcupnurseryschool.com/event/last-day-of-before-after-school-programs-4/
END:VEVENT
BEGIN:VEVENT
DTSTART;VALUE=DATE:20250603
DTEND;VALUE=DATE:20250604
DTSTAMP:20260426T033842
CREATED:20240719T170337Z
LAST-MODIFIED:20240719T170337Z
UID:4387-1748908800-1748995199@worldcupnurseryschool.com
SUMMARY:Last Day of School for 2 Day 2 yr old program and 2 day 3 yr old program
DESCRIPTION:2 day 3 yr old program has their class picnic.
URL:https://worldcupnurseryschool.com/event/last-day-of-school-for-2-day-2-yr-old-program-and-2-day-3-yr-old-program/
END:VEVENT
BEGIN:VEVENT
DTSTART;VALUE=DATE:20250523
DTEND;VALUE=DATE:20250527
DTSTAMP:20260426T033842
CREATED:20240719T165927Z
LAST-MODIFIED:20240719T170004Z
UID:4381-1747958400-1748303999@worldcupnurseryschool.com
SUMMARY:Memorial Day
DESCRIPTION:School Closed
URL:https://worldcupnurseryschool.com/event/memorial-day-3/
END:VEVENT
BEGIN:VEVENT
DTSTART;VALUE=DATE:20250414
DTEND;VALUE=DATE:20250419
DTSTAMP:20260426T033842
CREATED:20240719T165843Z
LAST-MODIFIED:20240719T165843Z
UID:4379-1744588800-1745020799@worldcupnurseryschool.com
SUMMARY:Spring Recess
DESCRIPTION:School open only for “Special Days” on April 14\, 15\, 16\, and 17
URL:https://worldcupnurseryschool.com/event/spring-recess-6/
END:VEVENT
BEGIN:VEVENT
DTSTART;VALUE=DATE:20250407
DTEND;VALUE=DATE:20250412
DTSTAMP:20260426T033842
CREATED:20240719T165755Z
LAST-MODIFIED:20240719T165755Z
UID:4377-1743984000-1744415999@worldcupnurseryschool.com
SUMMARY:St. Jude Trike-A-Thon
DESCRIPTION:
URL:https://worldcupnurseryschool.com/event/st-jude-trike-a-thon/
END:VEVENT
BEGIN:VEVENT
DTSTART;VALUE=DATE:20250306
DTEND;VALUE=DATE:20250307
DTSTAMP:20260426T033842
CREATED:20240719T165708Z
LAST-MODIFIED:20240719T165708Z
UID:4375-1741219200-1741305599@worldcupnurseryschool.com
SUMMARY:Parent Teacher Conferences for Class G
DESCRIPTION:School remains open for all programs an enrichments.
URL:https://worldcupnurseryschool.com/event/parent-teacher-conferences-for-class-g-2/
END:VEVENT
BEGIN:VEVENT
DTSTART;VALUE=DATE:20250305
DTEND;VALUE=DATE:20250306
DTSTAMP:20260426T033842
CREATED:20240719T165639Z
LAST-MODIFIED:20240719T165639Z
UID:4373-1741132800-1741219199@worldcupnurseryschool.com
SUMMARY:Parent Teacher Conferences for Classes F&H
DESCRIPTION:School remains open for all programs & enrichments.
URL:https://worldcupnurseryschool.com/event/parent-teacher-conferences-for-classes-fh/
END:VEVENT
BEGIN:VEVENT
DTSTART;VALUE=DATE:20250304
DTEND;VALUE=DATE:20250305
DTSTAMP:20260426T033842
CREATED:20240719T165607Z
LAST-MODIFIED:20240719T165607Z
UID:4371-1741046400-1741132799@worldcupnurseryschool.com
SUMMARY:Parent Teacher Conferences for Classes J & K
DESCRIPTION:School remains open for all programs and enrichments.
URL:https://worldcupnurseryschool.com/event/parent-teacher-conferences-for-classes-j-k-3/
END:VEVENT
BEGIN:VEVENT
DTSTART;VALUE=DATE:20250217
DTEND;VALUE=DATE:20250222
DTSTAMP:20260426T033842
CREATED:20240719T165015Z
LAST-MODIFIED:20240719T165015Z
UID:4369-1739750400-1740182399@worldcupnurseryschool.com
SUMMARY:Winter Recess
DESCRIPTION:School only open for “Special Days” on Feb 18\, 19\, 20\, and 21. \n  \n 
URL:https://worldcupnurseryschool.com/event/winter-recess-6/
END:VEVENT
BEGIN:VEVENT
DTSTART;VALUE=DATE:20250129
DTEND;VALUE=DATE:20250130
DTSTAMP:20260426T033842
CREATED:20240719T164155Z
LAST-MODIFIED:20240719T164155Z
UID:4367-1738108800-1738195199@worldcupnurseryschool.com
SUMMARY:Lunar New Year
DESCRIPTION:School closed.
URL:https://worldcupnurseryschool.com/event/lunar-new-year/
END:VEVENT
BEGIN:VEVENT
DTSTART;VALUE=DATE:20250120
DTEND;VALUE=DATE:20250121
DTSTAMP:20260426T033842
CREATED:20240719T163843Z
LAST-MODIFIED:20240719T163843Z
UID:4365-1737331200-1737417599@worldcupnurseryschool.com
SUMMARY:Martin Luther King Day
DESCRIPTION:School closed.
URL:https://worldcupnurseryschool.com/event/martin-luther-king-day-3/
END:VEVENT
BEGIN:VEVENT
DTSTART;VALUE=DATE:20250116
DTEND;VALUE=DATE:20250117
DTSTAMP:20260426T033842
CREATED:20240719T163619Z
LAST-MODIFIED:20240719T163619Z
UID:4363-1736985600-1737071999@worldcupnurseryschool.com
SUMMARY:Parent / Teacher Conferences for 2 Day\, 3 yr old programs
DESCRIPTION:Regular nursery school classes will be closed for only these students. However\, they will be able to attend their enrichment programs.
URL:https://worldcupnurseryschool.com/event/parent-teacher-conferences-for-2-day-3-yr-old-programs/
END:VEVENT
BEGIN:VEVENT
DTSTART;VALUE=DATE:20250115
DTEND;VALUE=DATE:20250116
DTSTAMP:20260426T033842
CREATED:20240719T161447Z
LAST-MODIFIED:20240719T161447Z
UID:4360-1736899200-1736985599@worldcupnurseryschool.com
SUMMARY:Parent/Teacher Conferences for 3 & 5 Day\, 3 yr old programs
DESCRIPTION:Regular nursery schoool classes will be closed for only these students. However\, they will be able to attend their enrichment programs.
URL:https://worldcupnurseryschool.com/event/parent-teacher-conferences-for-3-5-day-3-yr-old-programs-3/
END:VEVENT
BEGIN:VEVENT
DTSTART;VALUE=DATE:20241223
DTEND;VALUE=DATE:20250102
DTSTAMP:20260426T033842
CREATED:20240719T161046Z
LAST-MODIFIED:20240719T161046Z
UID:4358-1734912000-1735775999@worldcupnurseryschool.com
SUMMARY:Holiday Recess
DESCRIPTION:School Closed (school reopens 1/2)
URL:https://worldcupnurseryschool.com/event/holiday-recess-4/
END:VEVENT
BEGIN:VEVENT
DTSTART;VALUE=DATE:20241211
DTEND;VALUE=DATE:20241212
DTSTAMP:20260426T033842
CREATED:20240719T160823Z
LAST-MODIFIED:20240719T160823Z
UID:4356-1733875200-1733961599@worldcupnurseryschool.com
SUMMARY:Holiday Sing-A-Long for 4 yr old programs & Young 5's
DESCRIPTION:Snow date is 12/18
URL:https://worldcupnurseryschool.com/event/holiday-sing-a-long-for-4-yr-old-programs-young-5s/
END:VEVENT
BEGIN:VEVENT
DTSTART;VALUE=DATE:20241128
DTEND;VALUE=DATE:20241130
DTSTAMP:20260426T033842
CREATED:20240719T160320Z
LAST-MODIFIED:20240719T160320Z
UID:4354-1732752000-1732924799@worldcupnurseryschool.com
SUMMARY:Thanksgiving Recess
DESCRIPTION:School Closed
URL:https://worldcupnurseryschool.com/event/thanksgiving-recess-2/
END:VEVENT
END:VCALENDAR