BEGIN:VCALENDAR
VERSION:2.0
PRODID:-//World Cup Nursery School - ECPv6.15.1.1//NONSGML v1.0//EN
CALSCALE:GREGORIAN
METHOD:PUBLISH
X-ORIGINAL-URL:https://worldcupnurseryschool.com
X-WR-CALDESC:Events for World Cup Nursery School
REFRESH-INTERVAL;VALUE=DURATION:PT1H
X-Robots-Tag:noindex
X-PUBLISHED-TTL:PT1H
BEGIN:VTIMEZONE
TZID:UTC
BEGIN:STANDARD
TZOFFSETFROM:+0000
TZOFFSETTO:+0000
TZNAME:UTC
DTSTART:20260101T000000
END:STANDARD
END:VTIMEZONE
BEGIN:VEVENT
DTSTART;VALUE=DATE:20260525
DTEND;VALUE=DATE:20260526
DTSTAMP:20260425T160925
CREATED:20250822T181305Z
LAST-MODIFIED:20250822T181305Z
UID:4564-1779667200-1779753599@worldcupnurseryschool.com
SUMMARY:Memorial Day
DESCRIPTION:School closed.
URL:https://worldcupnurseryschool.com/event/memorial-day-4/
END:VEVENT
BEGIN:VEVENT
DTSTART;VALUE=DATE:20260602
DTEND;VALUE=DATE:20260603
DTSTAMP:20260425T160925
CREATED:20250822T181703Z
LAST-MODIFIED:20250822T182321Z
UID:4570-1780358400-1780444799@worldcupnurseryschool.com
SUMMARY:Last Day of School for 2-Day Classes
DESCRIPTION:Threes have class picnic.
URL:https://worldcupnurseryschool.com/event/last-day-of-school-for-2-day-classes/
END:VEVENT
BEGIN:VEVENT
DTSTART;VALUE=DATE:20260603
DTEND;VALUE=DATE:20260604
DTSTAMP:20260425T160925
CREATED:20250822T181352Z
LAST-MODIFIED:20250822T181352Z
UID:4566-1780444800-1780531199@worldcupnurseryschool.com
SUMMARY:Last Day of Before & After School Programs
DESCRIPTION:
URL:https://worldcupnurseryschool.com/event/last-day-of-before-after-school-programs-5/
END:VEVENT
BEGIN:VEVENT
DTSTART;VALUE=DATE:20260603
DTEND;VALUE=DATE:20260604
DTSTAMP:20260425T160925
CREATED:20250822T182142Z
LAST-MODIFIED:20250822T182142Z
UID:4572-1780444800-1780531199@worldcupnurseryschool.com
SUMMARY:Last Day of School for 3 and 5 day classes
DESCRIPTION:For two and three yr. old programs only\, as well as PT/all day. \n  \nThrees will have class picnic.
URL:https://worldcupnurseryschool.com/event/last-day-of-school-for-3-and-5-day-classes/
END:VEVENT
BEGIN:VEVENT
DTSTART;VALUE=DATE:20260604
DTEND;VALUE=DATE:20260605
DTSTAMP:20260425T160925
CREATED:20250822T182515Z
LAST-MODIFIED:20250822T182515Z
UID:4575-1780531200-1780617599@worldcupnurseryschool.com
SUMMARY:Last Day of School / Moving Up Ceremony for 4 yr. old programs and Young 5's
DESCRIPTION:Moving Up Tentative Schedule: \n9:30 – G \n19:30 – H \n11:30 – F \n12:30 – J \n1:30 – K
URL:https://worldcupnurseryschool.com/event/last-day-of-school-moving-up-ceremony-for-4-yr-old-programs-and-young-5s/
END:VEVENT
BEGIN:VEVENT
DTSTART;VALUE=DATE:20260608
DTEND;VALUE=DATE:20260613
DTSTAMP:20260425T160925
CREATED:20250822T181432Z
LAST-MODIFIED:20250822T181432Z
UID:4568-1780876800-1781308799@worldcupnurseryschool.com
SUMMARY:June Special Days
DESCRIPTION:
URL:https://worldcupnurseryschool.com/event/june-special-days-5/
END:VEVENT
END:VCALENDAR