BEGIN:VCALENDAR
VERSION:2.0
PRODID:-//World Cup Nursery School - ECPv6.15.1.1//NONSGML v1.0//EN
CALSCALE:GREGORIAN
METHOD:PUBLISH
X-WR-CALNAME:World Cup Nursery School
X-ORIGINAL-URL:https://worldcupnurseryschool.com
X-WR-CALDESC:Events for World Cup Nursery School
REFRESH-INTERVAL;VALUE=DURATION:PT1H
X-Robots-Tag:noindex
X-PUBLISHED-TTL:PT1H
BEGIN:VTIMEZONE
TZID:UTC
BEGIN:STANDARD
TZOFFSETFROM:+0000
TZOFFSETTO:+0000
TZNAME:UTC
DTSTART:20260101T000000
END:STANDARD
END:VTIMEZONE
BEGIN:VEVENT
DTSTART;VALUE=DATE:20260602
DTEND;VALUE=DATE:20260603
DTSTAMP:20260425T191615
CREATED:20250822T181703Z
LAST-MODIFIED:20250822T182321Z
UID:4570-1780358400-1780444799@worldcupnurseryschool.com
SUMMARY:Last Day of School for 2-Day Classes
DESCRIPTION:Threes have class picnic.
URL:https://worldcupnurseryschool.com/event/last-day-of-school-for-2-day-classes/
END:VEVENT
END:VCALENDAR