BEGIN:VCALENDAR
VERSION:2.0
PRODID:-//World Cup Nursery School - ECPv6.15.1.1//NONSGML v1.0//EN
CALSCALE:GREGORIAN
METHOD:PUBLISH
X-ORIGINAL-URL:https://worldcupnurseryschool.com
X-WR-CALDESC:Events for World Cup Nursery School
REFRESH-INTERVAL;VALUE=DURATION:PT1H
X-Robots-Tag:noindex
X-PUBLISHED-TTL:PT1H
BEGIN:VTIMEZONE
TZID:UTC
BEGIN:STANDARD
TZOFFSETFROM:+0000
TZOFFSETTO:+0000
TZNAME:UTC
DTSTART:20260101T000000
END:STANDARD
END:VTIMEZONE
BEGIN:VEVENT
DTSTART;VALUE=DATE:20260406
DTEND;VALUE=DATE:20260411
DTSTAMP:20260425T161244
CREATED:20250822T181131Z
LAST-MODIFIED:20250822T181131Z
UID:4562-1775433600-1775865599@worldcupnurseryschool.com
SUMMARY:St. Jude Trike-A-Thon
DESCRIPTION:
URL:https://worldcupnurseryschool.com/event/st-jude-trike-a-thon-2/
END:VEVENT
END:VCALENDAR