BEGIN:VCALENDAR
VERSION:2.0
PRODID:-//World Cup Nursery School - ECPv6.15.1.1//NONSGML v1.0//EN
CALSCALE:GREGORIAN
METHOD:PUBLISH
X-WR-CALNAME:World Cup Nursery School
X-ORIGINAL-URL:https://worldcupnurseryschool.com
X-WR-CALDESC:Events for World Cup Nursery School
REFRESH-INTERVAL;VALUE=DURATION:PT1H
X-Robots-Tag:noindex
X-PUBLISHED-TTL:PT1H
BEGIN:VTIMEZONE
TZID:UTC
BEGIN:STANDARD
TZOFFSETFROM:+0000
TZOFFSETTO:+0000
TZNAME:UTC
DTSTART:20260101T000000
END:STANDARD
END:VTIMEZONE
BEGIN:VEVENT
DTSTART;VALUE=DATE:20260216
DTEND;VALUE=DATE:20260221
DTSTAMP:20260425T191616
CREATED:20250822T180406Z
LAST-MODIFIED:20250822T180406Z
UID:4552-1771200000-1771631999@worldcupnurseryschool.com
SUMMARY:Winter Recess
DESCRIPTION:School only open for “Special Days\,” on Feb. 17\, 18\, 19\, & 20.
URL:https://worldcupnurseryschool.com/event/winter-recess-7/
END:VEVENT
END:VCALENDAR