BEGIN:VCALENDAR
VERSION:2.0
PRODID:-//World Cup Nursery School - ECPv6.15.1.1//NONSGML v1.0//EN
CALSCALE:GREGORIAN
METHOD:PUBLISH
X-WR-CALNAME:World Cup Nursery School
X-ORIGINAL-URL:https://worldcupnurseryschool.com
X-WR-CALDESC:Events for World Cup Nursery School
REFRESH-INTERVAL;VALUE=DURATION:PT1H
X-Robots-Tag:noindex
X-PUBLISHED-TTL:PT1H
BEGIN:VTIMEZONE
TZID:UTC
BEGIN:STANDARD
TZOFFSETFROM:+0000
TZOFFSETTO:+0000
TZNAME:UTC
DTSTART:20260101T000000
END:STANDARD
END:VTIMEZONE
BEGIN:VEVENT
DTSTART;VALUE=DATE:20260122
DTEND;VALUE=DATE:20260123
DTSTAMP:20260425T205338
CREATED:20250822T180033Z
LAST-MODIFIED:20250822T180054Z
UID:4550-1769040000-1769126399@worldcupnurseryschool.com
SUMMARY:Parent / Teacher Conferences
DESCRIPTION:For 2 day\, 3 yr old. programs.  Regular nursery school classes will be closed for only these students. However\, they will be able to attend their enrichment programs.
URL:https://worldcupnurseryschool.com/event/parent-teacher-conferences-6/
END:VEVENT
END:VCALENDAR