BEGIN:VCALENDAR
VERSION:2.0
PRODID:-//World Cup Nursery School - ECPv6.15.1.1//NONSGML v1.0//EN
CALSCALE:GREGORIAN
METHOD:PUBLISH
X-WR-CALNAME:World Cup Nursery School
X-ORIGINAL-URL:https://worldcupnurseryschool.com
X-WR-CALDESC:Events for World Cup Nursery School
REFRESH-INTERVAL;VALUE=DURATION:PT1H
X-Robots-Tag:noindex
X-PUBLISHED-TTL:PT1H
BEGIN:VTIMEZONE
TZID:UTC
BEGIN:STANDARD
TZOFFSETFROM:+0000
TZOFFSETTO:+0000
TZNAME:UTC
DTSTART:20250101T000000
END:STANDARD
END:VTIMEZONE
BEGIN:VEVENT
DTSTART;VALUE=DATE:20251210
DTEND;VALUE=DATE:20251211
DTSTAMP:20260425T223107
CREATED:20250822T173836Z
LAST-MODIFIED:20250822T173923Z
UID:4540-1765324800-1765411199@worldcupnurseryschool.com
SUMMARY:Holiday Sing-A-Long
DESCRIPTION:For 4 yr old & Young 5’s programs. Snow date 12/17.
URL:https://worldcupnurseryschool.com/event/holiday-sing-a-long-3/
END:VEVENT
END:VCALENDAR